BEGIN:VCALENDAR
VERSION:2.0
PRODID:-//Plone.org//NONSGML plone.app.event//EN
X-WR-TIMEZONE:Europe/Madrid
BEGIN:VEVENT
SUMMARY:Reunión de la Comisión Académica del PDEE
DTSTART;TZID=Europe/Madrid:20130610T100000
DTEND;TZID=Europe/Madrid:20130610T120000
DTSTAMP:20260419T213433Z
UID:7792ba46-e80c-413e-a363-ec5b5f1ea5ce@peter2pre.upc.edu:11001
CREATED:20130529T144200Z
LAST-MODIFIED:20130529T144300Z
URL:https://electronicengineering.phd.upc.edu/es/eventos/reunion-de-la-com
 ision-academica-del-pdee
END:VEVENT
BEGIN:VTIMEZONE
TZID:Europe/Madrid
X-LIC-LOCATION:Europe/Madrid
BEGIN:DAYLIGHT
DTSTART:20130331T030000
TZNAME:CEST
TZOFFSETFROM:+0100
TZOFFSETTO:+0200
END:DAYLIGHT
END:VTIMEZONE
END:VCALENDAR
