BEGIN:VCALENDAR
VERSION:2.0
PRODID:-//Plone.org//NONSGML plone.app.event//EN
X-WR-TIMEZONE:Europe/Madrid
BEGIN:VEVENT
SUMMARY:PhD Thesis Defense: Eloi Ros Costals
DTSTART;TZID=Europe/Madrid:20240710T110000
DTEND;TZID=Europe/Madrid:20240710T140000
DTSTAMP:20260421T021140Z
UID:6cf5378f95ee4ed48d8e053f30e7525d@electronicengineering.phd.upc.edu
CREATED:20240619T084744Z
DESCRIPTION:Títol: Unconvectional semiconductor junction and their applic
 ation in photovoltaics\nPrograma de doctorat: 710EEL99 - Enginyeria Electr
 ònica\nNom de l'autor de la tesi: ELOI ROS COSTALS\nDirecció : VOZ SANCH
 EZ\, CRISTOBAL/ PUIGDOLLERS GONZALEZ\, JOAQUIN
LAST-MODIFIED:20240619T084749Z
LOCATION:Aula Polivalent\, edifici A\, EEB\, campus Besós
URL:https://electronicengineering.phd.upc.edu/en/events/phd-thesis-defense
 -eloi-ros-costals
END:VEVENT
BEGIN:VTIMEZONE
TZID:Europe/Madrid
X-LIC-LOCATION:Europe/Madrid
BEGIN:DAYLIGHT
DTSTART:20240331T030000
TZNAME:CEST
TZOFFSETFROM:+0100
TZOFFSETTO:+0200
END:DAYLIGHT
END:VTIMEZONE
END:VCALENDAR
