BEGIN:VCALENDAR
VERSION:2.0
PRODID:-//Plone.org//NONSGML plone.app.event//EN
X-WR-TIMEZONE:Europe/Madrid
BEGIN:VEVENT
SUMMARY:Presentació tesi doctoral Rubén Lumbiarres López
DTSTART;TZID=Europe/Madrid:20150729T120000
DTEND;TZID=Europe/Madrid:20150729T140000
DTSTAMP:20260420T220255Z
UID:20058cb9-bcf6-4061-82c0-9c208a621fea@peter2pre.upc.edu:11001
CREATED:20150721T085200Z
DESCRIPTION:Presentació tesi doctoral  " Generación de falsas claves cri
 ptográficas como medida de protección frente a ataques por canal lateral
 " de Rubén Lumbiarres López
LAST-MODIFIED:20150721T085800Z
LOCATION:Sala Máster\, Escola Politècnica Superior de Vilanova i la Gelt
 rú
URL:https://electronicengineering.phd.upc.edu/ca/esdeveniments/presentacio
 n-tesis-doctoral-ruben-lumbiarres-lopez
END:VEVENT
BEGIN:VTIMEZONE
TZID:Europe/Madrid
X-LIC-LOCATION:Europe/Madrid
BEGIN:DAYLIGHT
DTSTART:20150329T030000
TZNAME:CEST
TZOFFSETFROM:+0100
TZOFFSETTO:+0200
END:DAYLIGHT
END:VTIMEZONE
END:VCALENDAR
