BEGIN:VCALENDAR
VERSION:2.0
PRODID:-//Plone.org//NONSGML plone.app.event//EN
X-WR-TIMEZONE:Europe/Madrid
BEGIN:VEVENT
SUMMARY:Presentació propostes de tesi 2012/2013
DTSTART;TZID=Europe/Madrid:20130205T090000
DTEND;TZID=Europe/Madrid:20130205T100000
DTSTAMP:20260419T174415Z
UID:b835cb8f-549e-44b4-9ba3-cfead61bf321@peter2pre.upc.edu:11001
CREATED:20130130T081300Z
LAST-MODIFIED:20130204T102600Z
LOCATION:Edificio GAIA (Campus Terrassa)
URL:https://electronicengineering.phd.upc.edu/ca/esdeveniments/presentacio
 -propostes-de-tesi-2012-2013
END:VEVENT
BEGIN:VTIMEZONE
TZID:Europe/Madrid
X-LIC-LOCATION:Europe/Madrid
BEGIN:STANDARD
DTSTART:20121028T020000
TZNAME:CET
TZOFFSETFROM:+0200
TZOFFSETTO:+0100
END:STANDARD
END:VTIMEZONE
END:VCALENDAR
