BEGIN:VCALENDAR
VERSION:2.0
PRODID:-//Plone.org//NONSGML plone.app.event//EN
X-WR-TIMEZONE:Europe/Madrid
BEGIN:VEVENT
SUMMARY:Presentació propostes de tesi 2012/13
DTSTART;TZID=Europe/Madrid:20130207T113000
DTEND;TZID=Europe/Madrid:20130207T231500
DTSTAMP:20260419T231718Z
UID:79aeb188-a993-41d8-8bc7-0cb027c2b1fb@peter2pre.upc.edu:11001
CREATED:20130204T102800Z
LAST-MODIFIED:20130204T102900Z
LOCATION:aula postgrau\, edifici C5\, campus nord
URL:https://electronicengineering.phd.upc.edu/ca/esdeveniments/presentacio
 -propostes-de-tesi-2012-13
END:VEVENT
BEGIN:VTIMEZONE
TZID:Europe/Madrid
X-LIC-LOCATION:Europe/Madrid
BEGIN:STANDARD
DTSTART:20121028T020000
TZNAME:CET
TZOFFSETFROM:+0200
TZOFFSETTO:+0100
END:STANDARD
END:VTIMEZONE
END:VCALENDAR
