BEGIN:VCALENDAR
VERSION:2.0
PRODID:-//Plone.org//NONSGML plone.app.event//EN
X-WR-TIMEZONE:Europe/Madrid
BEGIN:VEVENT
SUMMARY:Presentació de propostes de tesi 2011/12
DTSTART;TZID=Europe/Madrid:20120628T103000
DTEND;TZID=Europe/Madrid:20120628T143000
DTSTAMP:20260420T032832Z
UID:1611a203-65df-4ef6-b601-d636b5f8b6f9@peter2pre.upc.edu:11001
CREATED:20120626T065500Z
LAST-MODIFIED:20120626T065900Z
LOCATION:aula de postgrau\, edifici C5\, campus nord
URL:https://electronicengineering.phd.upc.edu/ca/esdeveniments/presentacio
 -de-propostes-de-tesi-2011-12
END:VEVENT
BEGIN:VTIMEZONE
TZID:Europe/Madrid
X-LIC-LOCATION:Europe/Madrid
BEGIN:DAYLIGHT
DTSTART:20120325T030000
TZNAME:CEST
TZOFFSETFROM:+0100
TZOFFSETTO:+0200
END:DAYLIGHT
END:VTIMEZONE
END:VCALENDAR
