BEGIN:VCALENDAR
VERSION:2.0
PRODID:-//Plone.org//NONSGML plone.app.event//EN
X-WR-TIMEZONE:Europe/Madrid
BEGIN:VEVENT
SUMMARY:Presentació de propostes de tesi 2011/12
DTSTART;TZID=Europe/Madrid:20120702T000000
DTEND;TZID=Europe/Madrid:20120702T132500
DTSTAMP:20260420T090542Z
UID:06693759-ace3-45c1-9587-2d7dcda1649b@peter2pre.upc.edu:11001
CREATED:20120626T071200Z
LAST-MODIFIED:20120626T071400Z
LOCATION:aula AA201de l’EPSVG\, Vilanova i la Geltrú
URL:https://electronicengineering.phd.upc.edu/ca/esdeveniments/presentacio
 -de-propostes-de-tesi-2011-12-4
END:VEVENT
BEGIN:VTIMEZONE
TZID:Europe/Madrid
X-LIC-LOCATION:Europe/Madrid
BEGIN:DAYLIGHT
DTSTART:20120325T030000
TZNAME:CEST
TZOFFSETFROM:+0100
TZOFFSETTO:+0200
END:DAYLIGHT
END:VTIMEZONE
END:VCALENDAR
