BEGIN:VCALENDAR
VERSION:2.0
PRODID:-//Plone.org//NONSGML plone.app.event//EN
X-WR-TIMEZONE:Europe/Madrid
BEGIN:VEVENT
SUMMARY:Presentació de propostes de tesi 2011/12
DTSTART;TZID=Europe/Madrid:20120628T110000
DTEND;TZID=Europe/Madrid:20120628T140000
DTSTAMP:20260419T182404Z
UID:d33c2851-4da0-4ca9-a360-0f7b9a239b0a@peter2pre.upc.edu:11001
CREATED:20120626T070200Z
LAST-MODIFIED:20120626T070300Z
LOCATION:aula 002\, edifici C4\, campus nord
URL:https://electronicengineering.phd.upc.edu/ca/esdeveniments/presentacio
 -de-propostes-de-tesi-2011-12-1
END:VEVENT
BEGIN:VTIMEZONE
TZID:Europe/Madrid
X-LIC-LOCATION:Europe/Madrid
BEGIN:DAYLIGHT
DTSTART:20120325T030000
TZNAME:CEST
TZOFFSETFROM:+0100
TZOFFSETTO:+0200
END:DAYLIGHT
END:VTIMEZONE
END:VCALENDAR
