BEGIN:VCALENDAR
VERSION:2.0
PRODID:-//Plone.org//NONSGML plone.app.event//EN
X-WR-TIMEZONE:Europe/Madrid
BEGIN:VEVENT
SUMMARY:Conferencia Prof. Yukiya MIURA
DTSTART;TZID=Europe/Madrid:20140711T120000
DTEND;TZID=Europe/Madrid:20140711T133000
DTSTAMP:20260419T233446Z
UID:91a8d46b-76b6-45fa-a104-c5954ed53221@peter2pre.upc.edu:11001
CREATED:20140706T154500Z
DESCRIPTION:Conference: \nStudy on reliability and safety of LSIs\, by Pro
 f. Yukiya MIURA\, Tokyo Metropolitan University\, Japan. 
LAST-MODIFIED:20140706T154700Z
LOCATION:Aula Biblioteca\, Planta ETSEIB\, Diagonal 647\, Campus Sud UPC
URL:https://electronicengineering.phd.upc.edu/ca/esdeveniments/conferencia
 -prof.-yukiya-miura
END:VEVENT
BEGIN:VTIMEZONE
TZID:Europe/Madrid
X-LIC-LOCATION:Europe/Madrid
BEGIN:DAYLIGHT
DTSTART:20140330T030000
TZNAME:CEST
TZOFFSETFROM:+0100
TZOFFSETTO:+0200
END:DAYLIGHT
END:VTIMEZONE
END:VCALENDAR
